BEGIN:VCALENDAR
METHOD:PUBLISH
PRODID:Data::ICal 0.13
VERSION:2.0
BEGIN:VEVENT
DESCRIPTION:Hey Colts fans!\n\nDrop by our Party On McCarty Presented by Real Alternatives  located at the cross section of McCarty and Church St next to Lucas Oil on Sunday, November 10th from 10a to 1p before the Colts take on the Bills.\n\nQuench your thirst with the help of Jack Daniel&#039;s, enjoy a variety of food, music, and more.\n\nFree entry. All ages welcome.\n\nAddress: 801 Church St Indianapolis, IN 46225\nAttractions:\n\n 	Jack Daniels will be giving away an authentic Jack Daniel&#039;s whiskey barrel or barrel head at each tailgate\n 	BAR-BQ- Guys Cooking Creations has teamed up with Jack Daniel&#039;s to bring you the ultimate BAR-BQ with Jack Daniel&#039;s-infused flavors\n 	Live DJ on-site\n 	Board games\n 	Hank-FM&#039;s Annie and Cole\n 	Register To Win a BOSE Soundbar at the Fan tent!\n\nWe&#039;ll see you there!\n\n\n\n[gallery columns=&quot;4&quot; size=&quot;medium&quot; ids=&quot;415663,415656,415655,415654&quot;]\n\n&nbsp;
DTSTAMP:20260420T083122Z
DTSTART;TZID=America/Indiana/Indianapolis:20241010T100000
DTEND;TZID=America/Indiana/Indianapolis:20241010T130000
LOCATION:801 Church St Indianapolis\, IN 46225
SUMMARY:Party On McCarty &#8211; 10/10!
UID:417154-1728554400-1728565200
END:VEVENT
END:VCALENDAR
