BEGIN:VCALENDAR
METHOD:PUBLISH
PRODID:Data::ICal 0.13
VERSION:2.0
BEGIN:VEVENT
DESCRIPTION:On the Road to Racing Greatness! Join WIBC for an Unforgettable Night with Bobby Rahal &amp; Graham Rahal! 







As the engines gear up for the 110th running of the Indianapolis 500,&nbsp;93.1 WIBC&nbsp;invites you to another&nbsp;bucket-list racing experience you won’t want to miss: 



Tales from the Track featuring Bobby Rahal &amp; Graham Rahal, proudly presented by&nbsp;Relay Indiana. 



Join us for an exclusive evening hosted by&nbsp;Hammer &amp; Nigel, where racing meets raw storytelling. Hear firsthand from&nbsp;Graham Rahal&nbsp;| IndyCar Series driver &amp; performance enthusiast. Also hear from his dad&nbsp;Bobby Rahal&nbsp;| 1986 Indy 500 Champion, as he shares the highs, lows, and behind-the-scenes moments of his remarkable racing journey. 



Monday, May 18th6:00 – 8:00 PMDoors Open at 5:45PMGraham Rahal Performance - Zionsville, IN 



Tickets included: 




Dinner and drinks



Door prize registration



A moderated intimate Q&amp;A with Bobby Rahal &amp; Graham Rahal



A photo opportunity with the Bobby &amp; Graham








Zionsville-based GRP facility&nbsp;features everything from customized Porsche Carrera GTs to high-performance Ducati motorcycles. Our event will be held in the space where the cars are shown in the pictures below. 




Graham Rahal Performance



Graham Rahal Performance




Get ready to go beyond the track. 



This is more than an event, it’s a celebration of speed, legacy, and the road that inspires us all.
DTSTAMP:20260423T085011Z
DTSTART;TZID=America/Indiana/Indianapolis:20260518T180000
DTEND;TZID=America/Indiana/Indianapolis:20260518T200000
LOCATION:10850 Creek Way\, Zionsville\, Indiana
SUMMARY:Tales From The Track Presented By Relay Indiana 2026 &#8211; With Bobby Rahal &#038; Graham Rahal
UID:884507-1779127200-1779134400
END:VEVENT
END:VCALENDAR
