BEGIN:VCALENDAR
METHOD:PUBLISH
PRODID:Data::ICal 0.13
VERSION:2.0
BEGIN:VEVENT
DESCRIPTION:Don&#039;t miss tipoff this Thursday as the Pacers head into first game of the NBA Finals! 🏀\nJoin Hammer &amp; Nigel in Shelbyville as they broadcast LIVE from Caesars Sportsbook at Horseshoe Indianapolis and stick around to watch the Pacers take on the Thunder at the Caesar&#039;s watch party!
DTSTAMP:20260420T111434Z
DTSTART;TZID=America/Indiana/Indianapolis:20250605T150000
DTEND;TZID=America/Indiana/Indianapolis:20250605T180000
LOCATION:4300 N Michigan Road\, Shelbyville
SUMMARY:Join Hammer &amp; Nigel LIVE at Horseshoe Indianapolis!
UID:637372-1749135600-1749146400
END:VEVENT
END:VCALENDAR
