BEGIN:VCALENDAR
METHOD:PUBLISH
PRODID:Data::ICal 0.13
VERSION:2.0
BEGIN:VEVENT
DESCRIPTION:Don&#039;t miss the 64th Annual Decorators&#039; Show House and Gardens! 🏡\nJoin Pat &amp; Denny on April 26th for a LIVE Home &amp; Garden Show at The Baxter House and step into a world of exquisite design while supporting a worthy cause.\n\nGet your tickets now and see the new life brought to this magnificent home in the heart of Indianapolis’ Meridian-Kessler neighborhood. Explore more than twenty-five meticulously designed interior and exterior spaces brought to life by over twenty industry-leading interior designers and landscape architects.\n\nThis one-of-a-kind experience isn’t just a feast for the senses—it’s an opportunity to support a meaningful cause. Touring the historic Baxter House helps St. Margaret’s Hospital Guild reach its goal of raising $1 million for the John &amp; Kathy Ackerman Mental Health Professional Development Center at Sandra Eskenazi Mental Health Center.
DTSTAMP:20260420T111441Z
DTSTART;TZID=America/Indiana/Indianapolis:20250426T090000
DTEND;TZID=America/Indiana/Indianapolis:20250426T130000
LOCATION:5676 N Pennsylvania Street\, Indianapolis
SUMMARY:Home &amp; Garden at The Baxter House
UID:604705-1745658000-1745672400
END:VEVENT
END:VCALENDAR
