BEGIN:VCALENDAR
METHOD:PUBLISH
PRODID:Data::ICal 0.13
VERSION:2.0
BEGIN:VEVENT
DESCRIPTION:Don&#039;t miss Suburban Indy&#039;s 2025 Fall Home &amp; Outdoor Living Show! 🏠\nHappening Friday, September 19th through Sunday, September 21st at the Grand Park Events Center in Westfield, the Home &amp; Outdoor Living Show was designed to connect Suburban Indy homeowners with local businesses to discuss your landscape, home improvement and home renovation needs.\n\n⭐ Catch Hammer &amp; Nigel there Friday, September 19th as they broadcast LIVE from 3PM-7PM and explore the over 200 vendors, shopping opportunities and home displays that will be there! ⭐\n\nSpecial features this year include hot tubs and custom golf cart displays, daily smokeless fire pit giveaways, and Market Money giveaways that you can spend like cash as the show! PLUS—the new Dragon Training Academy experience joining the Kids’ Day lineup on Sunday! 🐉\n\nFor more details and information visit the Suburban Indy website ➤ https://suburbanindyshows.com/fall/
DTSTAMP:20260420T111756Z
DTSTART;TZID=America/Indiana/Indianapolis:20250919T150000
DTEND;TZID=America/Indiana/Indianapolis:20250919T190000
LOCATION:19000 Grand Park Boulevard\, Westfield
SUMMARY:H&amp;N LIVE: Suburban Home &amp; Outdoor Living Show
UID:722856-1758294000-1758308400
END:VEVENT
END:VCALENDAR
