BEGIN:VCALENDAR
METHOD:PUBLISH
PRODID:Data::ICal 0.13
VERSION:2.0
BEGIN:VEVENT
DESCRIPTION:Get tickets to see Celtic Thunder at the Murat Theatre @ Old National Centre on October 10th!
DTSTAMP:20260424T083415Z
DTSTART;TZID=America/Indiana/Indianapolis:20241010T193000
DTEND;TZID=America/Indiana/Indianapolis:20241010T213000
LOCATION:
SUMMARY:Get Tickets: Celtic Thunder
UID:297222-1728588600-1728595800
END:VEVENT
END:VCALENDAR
